BEGIN:VCALENDAR
VERSION:2.0
PRODID:icalendar-ruby
CALSCALE:GREGORIAN
METHOD:PUBLISH
BEGIN:VEVENT
DTSTAMP:20260422T101547Z
UID:8910bbe4-1ae5-4126-9cd5-8646b45d4b99
DTSTART:20261128T060000
DTEND:20261128T160000
DESCRIPTION:<p>Warriors\, you asked. We listened.</p><p>WARRIOR #3 IS BACK 
 BY POPULAR DEMAND.</p><p>On the 28th of November 2026\, the last Warrior r
 ace for 2026 will takes place at Syringa Park at Avianto Estate.</p><p>Cho
 ose between three spectacular races\, each differing in obstacles\, diffic
 ulty and distance. Be fearless\, daring and brave!</p><p>Crawl\, climb\, j
 ump and run your way over\, through or under challenging obstacles while e
 nsuring that no friend\, family or colleague is left behind.</p><p>Corpora
 te companies use Warrior as a unique and original year-end function or tea
 m-building exercise to encourage camaraderie and nurture team spirit.</p><
 p>The Warrior race is about perseverance\, determination\, and grit. It is
  about the collective tenacity of South Africans to endure and to emerge s
 tronger. Bravery is what defines us. Our courage is our armour.</p><p>#BEB
 RAVE</p>
LOCATION:Portion 77\, Villa Rd\, Muldersdrift South Africa 
SUMMARY:Warrior #3 - Cradle Syringa Park 
URL;VALUE=URI:https://faces.howler.co.za/Warrior1128
END:VEVENT
END:VCALENDAR
