BEGIN:VCALENDAR
VERSION:2.0
PRODID:icalendar-ruby
CALSCALE:GREGORIAN
METHOD:PUBLISH
BEGIN:VEVENT
DTSTAMP:20260422T071832Z
UID:9138e373-6605-4466-8a3b-0b88848dca30
DTSTART:20260919T060000
DTEND:20260919T170000
DESCRIPTION:<p>Warriors\, you asked. We listened.</p><p>WARRIOR #2 IS BACK 
 BY POPULAR DEMAND.</p><p>On the 19th of September 2026 at the Modderfontei
 n Reserve ( Taroko Trail Park )</p><p>Choose between three spectacular rac
 es\, each differing in obstacles\, difficulty and distance. Be fearless\, 
 daring and brave!</p><p>Crawl\, climb\, jump and run your way over\, throu
 gh or under challenging obstacles while ensuring that no friend\, family o
 r colleague is left behind.</p><p>Corporate companies use Warrior as a uni
 que and original year-end function or team-building exercise to encourage 
 camaraderie and nurture team spirit.</p><p>The Warrior race is about perse
 verance\, determination\, and grit. It is about the collective tenacity of
  South Africans to endure and to emerge stronger. Bravery is what defines 
 us. Our courage is our armour.</p><p>#BEBRAVE</p>
LOCATION:Norfolk Lane\, Modderfontein\, Johannesburg
SUMMARY:Warrior #2 - Taroko Trail Park
URL;VALUE=URI:https://faces.howler.co.za/Warrior1909
END:VEVENT
END:VCALENDAR
